BEGIN:VCALENDAR
VERSION:2.0
PRODID:-//wp-events-plugin.com//7.2.3.1//EN
TZID:Europe/Berlin
X-WR-TIMEZONE:Europe/Berlin
BEGIN:VEVENT
UID:5166@tus-hohnstorf.de
DTSTART;TZID=Europe/Berlin:20260509T100000
DTEND;TZID=Europe/Berlin:20260509T140000
DTSTAMP:20260423T172729Z
URL:https://tus-hohnstorf.de/events/sportabzeichentag-2026-in-echem/
SUMMARY:Sportabzeichentag 2026 in Echem
DESCRIPTION:[visual-link-preview encoded="eyJ0eXBlIjoiaW50ZXJuYWwiLCJwb3N0I
 jozNzA0LCJwb3N0X2xhYmVsIjoiQmVpdHJhZyAzNzA0IC0gU3BvcnRhYnplaWNoZW50YWdlIDI
 wMjYgZsO8ciBhbGxlIHZvbiA2IGJpcyA5OSBKYWhyZW4hIiwidXJsIjoiIiwiaW1hZ2VfaWQiO
 jM3MDcsImltYWdlX3VybCI6Imh0dHBzOi8vdHVzLWhvaG5zdG9yZi5kZS93cC1jb250ZW50L3V
 wbG9hZHMvMjAyNi8wNC9kZXV0c2NoZXNfc3BvcnRhYnplaWNoZW5fZWNoZW1faG9obnN0b3JmL
 nBuZyIsInRpdGxlIjoiU3BvcnRhYnplaWNoZW50YWdlIDIwMjYgZsO8ciBhbGxlIHZvbiA2IGJ
 pcyA5OSBKYWhyZW4hIiwic3VtbWFyeSI6IkluIGRpZXNlbSBKYWhyIHZlcmFuc3RhbHRlbiBGQ
 yBFY2hlbSB1bmQgVHVTIEhvaG5zdG9yZmdlbWVpbnNhbSBkaWUgU3BvcnRhYnplaWNoZW50YWd
 lIDIwMjYuICYjODIxMTsgYW0gMDkuMDUuMjAyNiB2b24gMTA6MDAgVWhyIGJpcyAxNDowMCBVa
 HIgYXVmIGRlbSBTcG9ydHBsYXR6IGluIEVjaGVtJiM4MjExOyBhbSAxMy4wNi4yMDI2IHZvbiA
 xMDowMCBVaHIgYmlzIDE0OjAwIFVociBhdWYgZGVtIFNwb3J0cGxhdHogaW4gSG9obnN0b3JmJ
 iM4MjExOyBOYWNoaG9sdGVybWluIC8gRXJzYXR6dGVybWluIGFtIDIxLjA4LjIwMjYgdm9uIDE
 2OjAwIFVociBiaXMgMTg6MDAgVWhyIGluIEVjaGVtIEVpbmUgVmVyZWluc21pdGdsaWVkc2NoY
 WZ0IGlzdCBuaWNodCBlcmZvcmRlcmxpY2gsIGJpdHRlIG1lbGRlIGRpY2ggw7xiZXIgZGllc2V
 uIExpbmsgYXVmIGRlciBGQyBFY2hlbSBXZWJzZWl0ZSBhbjogaHR0cHM6Ly93d3cuZmNlY2hlb
 S5kZS92ZXJhbnN0YWx0dW5nZW4vc3BvcnRhYnplaWNoZW50YWdlLTIwMjYvIiwidGVtcGxhdGU
 iOiJ1c2VfZGVmYXVsdF9mcm9tX3NldHRpbmdzIiwicHJvdmlkZXJfdXNlZCI6IiJ9"]
CATEGORIES:Event
LOCATION:Sportplatz Echem\, Birkenweg 12\, Echem\, Niedersachsen\, 21379\, 
 Deutschland
X-APPLE-STRUCTURED-LOCATION;VALUE=URI;X-ADDRESS=Birkenweg 12\, Echem\, Nied
 ersachsen\, 21379\, Deutschland;X-APPLE-RADIUS=100;X-TITLE=Sportplatz Eche
 m:geo:0,0
END:VEVENT
BEGIN:VTIMEZONE
TZID:Europe/Berlin
X-LIC-LOCATION:Europe/Berlin
BEGIN:DAYLIGHT
DTSTART:20260329T030000
TZOFFSETFROM:+0100
TZOFFSETTO:+0200
TZNAME:CEST
END:DAYLIGHT
END:VTIMEZONE
END:VCALENDAR