BEGIN:VCALENDAR
VERSION:2.0
PRODID:-//wp-events-plugin.com//7.2.3.1//EN
TZID:Europe/Berlin
X-WR-TIMEZONE:Europe/Berlin
BEGIN:VEVENT
UID:1349@tus-hohnstorf.de
DTSTART;TZID=Europe/Berlin:20260107T190000
DTEND;TZID=Europe/Berlin:20261218T220000
DTSTAMP:20260103T152243Z
URL:https://tus-hohnstorf.de/events/basketball-herren-2/
SUMMARY:Basketball Herren
DESCRIPTION:Übungsleiter\nTobias Schlender\nTel.: 0176-56385011\nE-Mail: t
 obi.schlender@gmail.com
CATEGORIES:Training
LOCATION:Dreifeld-Turnhalle\, Schulstraße 1\, 21522 Hohnstorf\, Deutschlan
 d
X-APPLE-STRUCTURED-LOCATION;VALUE=URI;X-ADDRESS=Schulstraße 1\, 21522 Hohn
 storf\, Deutschland;X-APPLE-RADIUS=100;X-TITLE=Dreifeld-Turnhalle:geo:0,0
END:VEVENT
BEGIN:VTIMEZONE
TZID:Europe/Berlin
X-LIC-LOCATION:Europe/Berlin
BEGIN:STANDARD
DTSTART:20251026T020000
TZOFFSETFROM:+0200
TZOFFSETTO:+0100
TZNAME:CET
END:STANDARD
BEGIN:DAYLIGHT
DTSTART:20260329T030000
TZOFFSETFROM:+0100
TZOFFSETTO:+0200
TZNAME:CEST
END:DAYLIGHT
BEGIN:STANDARD
DTSTART:20261025T020000
TZOFFSETFROM:+0200
TZOFFSETTO:+0100
TZNAME:CET
END:STANDARD
END:VTIMEZONE
END:VCALENDAR